BEGIN:VCALENDAR
VERSION:2.0
PRODID:-//St. Johns Botanical Garden and Nature Preserve - ECPv6.15.20//NONSGML v1.0//EN
CALSCALE:GREGORIAN
METHOD:PUBLISH
X-ORIGINAL-URL:https://www.stjohnsbotanicalgarden.org
X-WR-CALDESC:Events for St. Johns Botanical Garden and Nature Preserve
REFRESH-INTERVAL;VALUE=DURATION:PT1H
X-Robots-Tag:noindex
X-PUBLISHED-TTL:PT1H
BEGIN:VTIMEZONE
TZID:America/New_York
BEGIN:DAYLIGHT
TZOFFSETFROM:-0500
TZOFFSETTO:-0400
TZNAME:EDT
DTSTART:20230312T070000
END:DAYLIGHT
BEGIN:STANDARD
TZOFFSETFROM:-0400
TZOFFSETTO:-0500
TZNAME:EST
DTSTART:20231105T060000
END:STANDARD
BEGIN:DAYLIGHT
TZOFFSETFROM:-0500
TZOFFSETTO:-0400
TZNAME:EDT
DTSTART:20240310T070000
END:DAYLIGHT
BEGIN:STANDARD
TZOFFSETFROM:-0400
TZOFFSETTO:-0500
TZNAME:EST
DTSTART:20241103T060000
END:STANDARD
BEGIN:DAYLIGHT
TZOFFSETFROM:-0500
TZOFFSETTO:-0400
TZNAME:EDT
DTSTART:20250309T070000
END:DAYLIGHT
BEGIN:STANDARD
TZOFFSETFROM:-0400
TZOFFSETTO:-0500
TZNAME:EST
DTSTART:20251102T060000
END:STANDARD
END:VTIMEZONE
BEGIN:VEVENT
DTSTART;TZID=America/New_York:20241212T100000
DTEND;TZID=America/New_York:20241212T160000
DTSTAMP:20260422T170459
CREATED:20240711T175254Z
LAST-MODIFIED:20241001T162243Z
UID:16697-1733997600-1734019200@www.stjohnsbotanicalgarden.org
SUMMARY:Monthly Recovery Walks
DESCRIPTION:Join Discover & Recover for a walk in the beautiful St. Johns Botanical Gardens! Get gentle exercise\, talk recovery\, connect with others\, and enjoy the serenity of nature.
URL:https://www.stjohnsbotanicalgarden.org/event/monthly-recovery-walks-dec2024/
LOCATION:St. Johns Botanical Garden\, 8310 CR 13 S\, Hastings\, FL\, 32145\, United States
ATTACH;FMTTYPE=image/jpeg:https://www.stjohnsbotanicalgarden.org/wp-content/uploads/2024/07/Monthly-Recovery-Walks-without-date.jpg
ORGANIZER;CN="St. Johns Botanical Garden":MAILTO:info@stjohnsbotanicalgarden.org
END:VEVENT
END:VCALENDAR