BEGIN:VCALENDAR
VERSION:2.0
PRODID:-//St. Johns Botanical Garden and Nature Preserve - ECPv6.15.20//NONSGML v1.0//EN
CALSCALE:GREGORIAN
METHOD:PUBLISH
X-WR-CALNAME:St. Johns Botanical Garden and Nature Preserve
X-ORIGINAL-URL:https://www.stjohnsbotanicalgarden.org
X-WR-CALDESC:Events for St. Johns Botanical Garden and Nature Preserve
REFRESH-INTERVAL;VALUE=DURATION:PT1H
X-Robots-Tag:noindex
X-PUBLISHED-TTL:PT1H
BEGIN:VTIMEZONE
TZID:America/New_York
BEGIN:DAYLIGHT
TZOFFSETFROM:-0500
TZOFFSETTO:-0400
TZNAME:EDT
DTSTART:20240310T070000
END:DAYLIGHT
BEGIN:STANDARD
TZOFFSETFROM:-0400
TZOFFSETTO:-0500
TZNAME:EST
DTSTART:20241103T060000
END:STANDARD
BEGIN:DAYLIGHT
TZOFFSETFROM:-0500
TZOFFSETTO:-0400
TZNAME:EDT
DTSTART:20250309T070000
END:DAYLIGHT
BEGIN:STANDARD
TZOFFSETFROM:-0400
TZOFFSETTO:-0500
TZNAME:EST
DTSTART:20251102T060000
END:STANDARD
BEGIN:DAYLIGHT
TZOFFSETFROM:-0500
TZOFFSETTO:-0400
TZNAME:EDT
DTSTART:20260308T070000
END:DAYLIGHT
BEGIN:STANDARD
TZOFFSETFROM:-0400
TZOFFSETTO:-0500
TZNAME:EST
DTSTART:20261101T060000
END:STANDARD
END:VTIMEZONE
BEGIN:VEVENT
DTSTART;TZID=America/New_York:20251126T100000
DTEND;TZID=America/New_York:20251212T170000
DTSTAMP:20260423T123337
CREATED:20251126T175240Z
LAST-MODIFIED:20251126T181631Z
UID:17212-1764151200-1765558800@www.stjohnsbotanicalgarden.org
SUMMARY:Toy Drive
DESCRIPTION:Toy Drive – November-December 2025
URL:https://www.stjohnsbotanicalgarden.org/event/17212/
ATTACH;FMTTYPE=image/jpeg:https://www.stjohnsbotanicalgarden.org/wp-content/uploads/2025/11/imagejpeg_0.jpeg
END:VEVENT
BEGIN:VEVENT
DTSTART;TZID=America/New_York:20251213T110000
DTEND;TZID=America/New_York:20251213T120000
DTSTAMP:20260423T123337
CREATED:20251204T194153Z
LAST-MODIFIED:20251206T171717Z
UID:17229-1765623600-1765627200@www.stjohnsbotanicalgarden.org
SUMMARY:Holiday Craft Workshop
DESCRIPTION:Join us for a special holiday craft workshop designed to spark joy\, inspire creativity\, and get you in the festive spirit. You will be making a sparkly Christmas candle and a Stovetop potpourri bag. This workshop is appropriate for ages 8 through adult. Bring a bag lunch and after the workshop stroll through the garden to continue your day with the beauty of nature and peacefulness. Reserve your spot at the link provided below. \nhttps://lp.constantcontactpages.com/ev/reg/rtrw9u3/lp/fa8affaa-e947-4636-a9dc-3a69f4672139
URL:https://www.stjohnsbotanicalgarden.org/event/winter-workshop/
ATTACH;FMTTYPE=application/pdf:https://www.stjohnsbotanicalgarden.org/wp-content/uploads/2025/12/Holiday-Craft-Workshop-1.pdf
END:VEVENT
END:VCALENDAR